BEGIN:VCALENDAR
PRODID:-//Microsoft Corporation//Outlook 15.0 MIMEDIR//EN
VERSION:2.0
METHOD:PUBLISH
X-MS-OLK-FORCEINSPECTOROPEN:TRUE
BEGIN:VTIMEZONE
TZID:Pacific Standard Time
END:VTIMEZONE
BEGIN:VEVENT
DTSTART:2026-07-17T13:00:00
DTEND:2026-07-17T15:00:00
CATEGORIES:Blue Category
STATUS:TENTATIVE
CREATED:4/25/2026 3:31:24 AM
CLASS:PUBLIC
LOCATION:Off-site
DESCRIPTION:This meeting date/time is subject to change.  The ending time is not known. 
X-ALT-DESC;FMTTYPE=text/html:<HTML><HEAD><TITLE></TITLE><BODY><FONT SIZE=2><p>This meeting date/time is subject to change. The end time is not known.</p><p>Go to the <a href='https://www.leg.state.nv.us/App/InterimCommittee/REL/Interim2025/Meeting/35164'>Meeting of the Legislative Committee for the Review and Oversight of the Tahoe Regional Planning Agency and the Marlette Lake Water System</a> in the Interim Committee Application to verify the meeting schedule.</p><p><b>Viewing is only enabled on the day of the meeting.</b></p><p><b>Meeting Location:</b> Off-site</p><p>This is the fifth meeting of the 2025-2026 Interim. Meeting rescheduled from July 10, 2026. The meeting will be held in the Tahoe Room, Tahoe Regional Planning Agency, 128 Market Street, Stateline, NV. The agenda is not yet available.</p></FONT></BR></BODY></HTML>
ORGANIZER:AppDev@lcb.state.nv.us
SUMMARY:Meeting of the Legislative Committee for the Review and Oversight of the Tahoe Regional Planning Agency and the Marlette Lake Water System
UID:NVLEG.35164.35164@lcb.state.nv.us
BEGIN:VALARM
TRIGGER:-PT15M
ACTION:DISPLAY
DESCRIPTION:Reminder
END:VALARM
END:VEVENT
END:VCALENDAR
